BEGIN:VCALENDAR
VERSION:2.0
PRODID:-//wp-events-plugin.com//6.6.4.4//EN
BEGIN:VEVENT
UID:30@splsportugal.com
DTSTART:20220609T210000Z
DTEND:20220609T220000Z
DTSTAMP:20230717T235457Z
URL:https://splsportugal.com/events/webinar-saude-eficiente/
SUMMARY:Webinar: saúde eficiente
DESCRIPTION:&nbsp\;\n\nDebate em voz própria realizado em 09 de junho 2022
  — Conversa aberta sobre o acesso à saúde das pessoas com deficiência
 .\n\n[fusion_imageframe image_id="2143|full" aspect_ratio="" custom_aspect
 _ratio="100" aspect_ratio_position="" skip_lazy_load="" lightbox="no" gall
 ery_id="" lightbox_image="" lightbox_image_id="" alt="" link="" linktarget
 ="_self" hide_on_mobile="small-visibility\,medium-visibility\,large-visibi
 lity" sticky_display="normal\,sticky" class="" id="" max_width="" sticky_m
 ax_width="" align_medium="none" align_small="none" align="none" mask="" cu
 stom_mask="" mask_size="" mask_custom_size="" mask_position="" mask_custom
 _position="" mask_repeat="" style_type="" blur="" stylecolor="" hue="" sat
 uration="" lightness="" alpha="" hover_type="none" magnify_full_img="" mag
 nify_duration="120" scroll_height="100" scroll_speed="1" margin_top_medium
 ="" margin_right_medium="" margin_bottom_medium="" margin_left_medium="" m
 argin_top_small="" margin_right_small="" margin_bottom_small="" margin_lef
 t_small="" margin_top="" margin_right="" margin_bottom="" margin_left="" b
 ordersize="" bordercolor="" borderradius="" z_index="" caption_style="off"
  caption_align_medium="none" caption_align_small="none" caption_align="non
 e" caption_title="" caption_text="" caption_title_tag="2" fusion_font_fami
 ly_caption_title_font="" fusion_font_variant_caption_title_font="" caption
 _title_size="" caption_title_line_height="" caption_title_letter_spacing="
 " caption_title_transform="" caption_title_color="" caption_background_col
 or="" fusion_font_family_caption_text_font="" fusion_font_variant_caption_
 text_font="" caption_text_size="" caption_text_line_height="" caption_text
 _letter_spacing="" caption_text_transform="" caption_text_color="" caption
 _border_color="" caption_overlay_color="" caption_margin_top="" caption_ma
 rgin_right="" caption_margin_bottom="" caption_margin_left="" animation_ty
 pe="" animation_direction="left" animation_color="" animation_speed="0.3" 
 animation_delay="0" animation_offset="" filter_hue="0" filter_saturation="
 100" filter_brightness="100" filter_contrast="100" filter_invert="0" filte
 r_sepia="0" filter_opacity="100" filter_blur="0" filter_hue_hover="0" filt
 er_saturation_hover="100" filter_brightness_hover="100" filter_contrast_ho
 ver="100" filter_invert_hover="0" filter_sepia_hover="0" filter_opacity_ho
 ver="100" filter_blur_hover="0"]https://splsportugal.com/wp-content/upload
 s/2023/07/cartaz-saude-eficiente-horizontal.png[/fusion_imageframe]\n\nA S
 ociedade Portuguesa de Literacia em Saúde (SPLS) teve o grato prazer de c
 ontar no debate com três pessoas marcantes na defesa dos direitos das pes
 soas com deficiência:\n\nDiana Santos – Vice Presidente do Centro de Vi
 da Independente\, teve funções como deputada da Assembleia da República
 .\nEduardo Jorge – Ativista de Direitos Humanos. Diretor Técnico numa I
 PSS.\nPaula Varela Reis – Ex- embaixadora do Ano Europeu no Combate à P
 obreza e Exclusão Social. Bailarina do Grupo de Dança Inclusiva “Plura
 l”\n\nVeja\, ou reveja\, o webinar aqui:\n\n&nbsp\;\n\n[fusion_youtube i
 d="https://youtu.be/QHBcHp5v5pA" alignment="" width="" height="" autoplay=
 "false" mute="false" api_params="" title_attribute="" video_facade="" marg
 in_top="" margin_bottom="" hide_on_mobile="small-visibility\,medium-visibi
 lity\,large-visibility" class="" css_id="" structured_data="off" video_upl
 oad_date="" video_duration="" video_title="" video_desc=""][/fusion_youtub
 e]
ATTACH;FMTTYPE=image/jpeg:https://splsportugal.com/wp-content/uploads/2023
 /07/Website-spls-saude-eficiente.jpg
CATEGORIES:Formações
END:VEVENT
END:VCALENDAR