BEGIN:VCALENDAR
VERSION:2.0
PRODID:-//wp-events-plugin.com//6.6.4.4//EN
BEGIN:VEVENT
UID:752@splsportugal.com
DTSTART:20260430T210000Z
DTEND:20260430T220000Z
DTSTAMP:20260424T174829Z
URL:https://splsportugal.com/events/spls-promove-webinar-saude-da-mulher-l
 iteracia-prevencao-e-bem-estar/
SUMMARY:SPLS promove webinar "Saúde da Mulher": literacia\, prevenção e 
 bem-estar
DESCRIPTION:No próximo dia 30 de abril\, a Sociedade Portuguesa de Literac
 ia em Saúde (SPLS) dedica a sua atenção a uma temática fundamental: a 
 Saúde da Mulher. Pelas 21h00 (Hora de Lisboa)\, especialistas de diversas
  áreas reúnem-se num debate online que pretende ir muito além dos tópi
 cos convencionais.
ATTACH;FMTTYPE=image/jpeg:https://splsportugal.com/wp-content/uploads/2026
 /04/having-good-time-group-women-spending-time-together-feeling-excited-1-
 scaled-e1777052891197.jpg
CATEGORIES:Eventos
END:VEVENT
END:VCALENDAR