BEGIN:VCALENDAR
VERSION:2.0
PRODID:-//wp-events-plugin.com//6.6.4.4//EN
BEGIN:VEVENT
UID:751@splsportugal.com
DTSTART;VALUE=DATE:20260424
DTEND;VALUE=DATE:20260425
DTSTAMP:20260424T174559Z
URL:https://splsportugal.com/events/spls-lanca-livro-em-tributo-as-mulhere
 s-na-ciencia/
SUMMARY:SPLS lança livro em tributo às mulheres na ciência
DESCRIPTION:A Sociedade Portuguesa de Literacia em Saúde assinalou o lanç
 amento da obra “Mulheres na Ciência – Tributo”\, uma publicação q
 ue homenageia o papel das mulheres na promoção da literacia em saúde e 
 na construção de sociedades mais informadas\, justas e inclusivas.
ATTACH;FMTTYPE=image/jpeg:https://splsportugal.com/wp-content/uploads/2026
 /04/Design-sem-nome-19.png
CATEGORIES:Eventos
END:VEVENT
END:VCALENDAR