BEGIN:VCALENDAR
VERSION:2.0
PRODID:-//wp-events-plugin.com//6.6.4.4//EN
BEGIN:VEVENT
UID:726@splsportugal.com
DTSTART;VALUE=DATE:20260228
DTEND;VALUE=DATE:20260301
DTSTAMP:20260219T175655Z
URL:https://splsportugal.com/events/spls-lanca-3-a-edicao-da-revista-portu
 guesa-de-literacia-em-saude/
SUMMARY:SPLS lança 3.ª edição da Revista Portuguesa de Literacia em Sa
 úde
DESCRIPTION:A Sociedade Portuguesa de Literacia em Saúde anuncia o lançam
 ento da 3.ª edição da Revista Portuguesa de Literacia em Saúde\, publi
 cada em dezembro de 2025\, reforçando o compromisso da comunidade cientí
 fica e profissional com a promoção do conhecimento e da investigação n
 esta área fundamental para a cidadania e o bem-estar.
ATTACH;FMTTYPE=image/jpeg:https://splsportugal.com/wp-content/uploads/2026
 /02/Copia-de-Copia-de-Design-sem-nome-8.png
CATEGORIES:Eventos
END:VEVENT
END:VCALENDAR