BEGIN:VCALENDAR
VERSION:2.0
PRODID:-//wp-events-plugin.com//6.6.4.4//EN
BEGIN:VEVENT
UID:544@splsportugal.com
DTSTART;VALUE=DATE:20250216
DTEND;VALUE=DATE:20250217
DTSTAMP:20250218T214829Z
URL:https://splsportugal.com/events/spls-e-nowscience-celebram-parceria-pa
 ra-promover-literacia-em-saude-baseada-na-ciencia/
SUMMARY:SPLS e Nowscience celebram parceria para promover literacia em saú
 de baseada na ciência
DESCRIPTION:No dia 16 de fevereiro de 2025\, a Sociedade Portuguesa de Lite
 racia em Saúde (SPLS) e a Nowscience oficializaram uma parceria estratég
 ica que visa fortalecer a literacia em saúde com base científica. A assi
 natura do protocolo de colaboração marca o início de um compromisso con
 junto para promover informação rigorosa e acessível\, contribuindo para
  uma cidadania mais informada e consciente em questões de saúde.
ATTACH;FMTTYPE=image/jpeg:https://splsportugal.com/wp-content/uploads/2025
 /02/Captura-de-ecra-2025-02-18-as-21.43.43-e1739915288863.png
CATEGORIES:Eventos,Parceiros
END:VEVENT
END:VCALENDAR