BEGIN:VCALENDAR
VERSION:2.0
PRODID:-//wp-events-plugin.com//6.6.4.4//EN
BEGIN:VEVENT
UID:543@splsportugal.com
DTSTART;VALUE=DATE:20250218
DTEND;VALUE=DATE:20250219
DTSTAMP:20250218T214111Z
URL:https://splsportugal.com/events/spls-e-medicos-do-mundo-assinam-protoc
 olo-de-colaboracao-para-promover-cidadania-ativa-em-saude/
SUMMARY:SPLS e Médicos do Mundo assinam protocolo de colaboração para pr
 omover cidadania ativa em saúde
DESCRIPTION:Professora Dra. Cristina Vaz de Almeida\, presidente da SPLS\, 
 e a Dra. Carla Paiva\, diretora executiva da Médicos do Mundo (MdM) selar
 am um compromisso de cooperação que promete fazer a diferença na área 
 da saúde. A assinatura do protocolo de colaboração marca o início de u
 ma parceria estratégica que visa fortalecer a cidadania informada e ativa
  em questões de saúde.
ATTACH;FMTTYPE=image/jpeg:https://splsportugal.com/wp-content/uploads/2025
 /02/20250116_155252-e1739914867783.jpg
CATEGORIES:Eventos,Parceiros
END:VEVENT
END:VCALENDAR