BEGIN:VCALENDAR
VERSION:2.0
PRODID:-//wp-events-plugin.com//6.6.4.4//EN
BEGIN:VEVENT
UID:640@splsportugal.com
DTSTART;VALUE=DATE:20250905
DTEND;VALUE=DATE:20250906
DTSTAMP:20250906T182459Z
URL:https://splsportugal.com/events/spls-e-gat-firmam-protocolo-para-comba
 ter-estigma-associado-ao-vih-sida/
SUMMARY:SPLS e GAT firmam protocolo para combater estigma associado ao VIH/
 SIDA
DESCRIPTION:No dia 5 de setembro de 2025\, a Sociedade Portuguesa de Litera
 cia em Saúde (SPLS) e o Grupo de Ativistas em Tratamentos (GAT) assinaram
  um protocolo de colaboração\, marcando um passo decisivo na luta contra
  o estigma que ainda persiste em torno das pessoas que vivem com VIH/SIDA.
ATTACH;FMTTYPE=image/jpeg:https://splsportugal.com/wp-content/uploads/2025
 /09/WhatsApp-Image-2025-09-05-at-19.59.02-e1757183081879.jpeg
CATEGORIES:Eventos,Parceiros
END:VEVENT
END:VCALENDAR