BEGIN:VCALENDAR
VERSION:2.0
PRODID:-//wp-events-plugin.com//6.6.4.4//EN
BEGIN:VEVENT
UID:77@splsportugal.com
DTSTART;VALUE=DATE:20230927
DTEND;VALUE=DATE:20230928
DTSTAMP:20231106T210414Z
URL:https://splsportugal.com/events/spls-e-escs-juntas-para-promover-saude
 -oral-dos-jovens/
SUMMARY:SPLS e ESCS juntas para promover saúde oral dos jovens
DESCRIPTION:A Escola Superior de Comunicação Social (ESCS) assinou um pro
 tocolo de cooperação com a Sociedade Portuguesa de Literacia em Saúde (
 SPLS)\, no âmbito da licenciatura em Relações Públicas e Comunicação
  Empresarial (RPCE).
ATTACH;FMTTYPE=image/jpeg:https://splsportugal.com/wp-content/uploads/2023
 /09/1695814854066-e1695831333949.jpeg
CATEGORIES:Eventos,Formações,Parceiros
END:VEVENT
END:VCALENDAR