BEGIN:VCALENDAR
VERSION:2.0
PRODID:-//wp-events-plugin.com//6.6.4.4//EN
BEGIN:VEVENT
UID:750@splsportugal.com
DTSTART;VALUE=DATE:20260424
DTEND;VALUE=DATE:20260501
DTSTAMP:20260419T085117Z
URL:https://splsportugal.com/events/spls-apoia-a-semana-europeia-da-imuniz
 acao/
SUMMARY:SPLS apoia a Semana Europeia da Imunização
DESCRIPTION:A Sociedade Portuguesa de Literacia em Saúde (SPLS) associa-se
  à celebração da Semana Europeia da Imunização\, reforçando o seu co
 mpromisso com a promoção da literacia em saúde e a valorização da vac
 inação como um dos pilares fundamentais da saúde pública.
ATTACH;FMTTYPE=image/jpeg:https://splsportugal.com/wp-content/uploads/2026
 /04/doctor-vaccinating-patient-clinic-scaled-e1776588671521.jpg
CATEGORIES:Eventos
END:VEVENT
END:VCALENDAR