BEGIN:VCALENDAR
VERSION:2.0
PRODID:-//wp-events-plugin.com//6.6.4.4//EN
BEGIN:VEVENT
UID:219@splsportugal.com
DTSTART;VALUE=DATE:20240207
DTEND;VALUE=DATE:20240208
DTSTAMP:20240208T183837Z
URL:https://splsportugal.com/events/principios-eticos-europeus-para-a-saud
 e-digital-uniao-europeia/
SUMMARY:Princípios Éticos Europeus para a Saúde Digital – União Europ
 eia
DESCRIPTION:Em janeiro de 2022\, a União Europeia estabeleceu um quadro pa
 ra a saúde digital.
ATTACH;FMTTYPE=image/jpeg:https://splsportugal.com/wp-content/uploads/2024
 /02/waving-european-union-flag-blue-background-scaled-e1707327949116.jpg
CATEGORIES:Formações
END:VEVENT
END:VCALENDAR