BEGIN:VCALENDAR
VERSION:2.0
PRODID:-//wp-events-plugin.com//6.6.4.4//EN
BEGIN:VEVENT
UID:464@splsportugal.com
DTSTART;VALUE=DATE:20241024
DTEND;VALUE=DATE:20241025
DTSTAMP:20241024T190906Z
URL:https://splsportugal.com/events/presidente-da-spls-tem-oportunidade-de
 -publicar-com-um-dos-maiores-especialistas-de-comunicacao-do-mundo-o-profe
 ssor-jeong-nam-kim/
SUMMARY:Presidente da SPLS tem oportunidade de publicar com um dos maiores 
 especialistas de comunicação do mundo: o Professor Jeong-Nam Kim
DESCRIPTION:A presidente da Sociedade Portuguesa de Literacia em Saúde (SP
 LS)\, Professora Doutora Cristina Vaz de Almeida\, publicou um artigo cien
 tífico ao lado de uma das maiores autoridades mundiais em comunicação\,
  o Professor Jeong-Nam Kim\, da The University of Oklahoma. 
ATTACH;FMTTYPE=image/jpeg:https://splsportugal.com/wp-content/uploads/2024
 /10/business-man-working-office-desktop-scaled-e1729796817957.jpg
CATEGORIES:Eventos
END:VEVENT
END:VCALENDAR