BEGIN:VCALENDAR
VERSION:2.0
PRODID:-//wp-events-plugin.com//6.6.4.4//EN
BEGIN:VEVENT
UID:28@splsportugal.com
DTSTART:20220615T210000Z
DTEND:20220615T220000Z
DTSTAMP:20240121T111549Z
URL:https://splsportugal.com/events/e-agora-transferencia-de-competencias-
 na-area-da-saude-para-as-autarquias/
SUMMARY:E agora? Transferência de competências na área da saúde para as
  autarquias
DESCRIPTION:No dia 15 de junho de 2022\, a Sociedade Portuguesa de Literaci
 a em Saúde organizou o webinar "E agora? Transferência de competências 
 na área da saúde para as autarquias".
ATTACH;FMTTYPE=image/jpeg:https://splsportugal.com/wp-content/uploads/2023
 /07/Website-spls-e-agora.jpg
CATEGORIES:Formações
END:VEVENT
END:VCALENDAR