BEGIN:VCALENDAR
VERSION:2.0
PRODID:-//wp-events-plugin.com//6.6.4.4//EN
BEGIN:VEVENT
UID:335@splsportugal.com
DTSTART;VALUE=DATE:20240517
DTEND;VALUE=DATE:20240518
DTSTAMP:20240517T080121Z
URL:https://splsportugal.com/events/dia-mundial-da-hipertensao/
SUMMARY:Dia Mundial da Hipertensão
DESCRIPTION:A celebração do Dia Mundial da Hipertensão\, a 17 de maio\, 
 é uma iniciativa da World Hypertension League (WHL)\, uma instituição i
 nternacional\, sem fins lucrativos\, que se dedica globalmente à prevenç
 ão e controlo da hipertensão arterial.
ATTACH;FMTTYPE=image/jpeg:https://splsportugal.com/wp-content/uploads/2024
 /05/side-view-doctor-checking-patient-scaled-e1715932863268.jpg
CATEGORIES:Celebrações em saúde
END:VEVENT
END:VCALENDAR