BEGIN:VCALENDAR
VERSION:2.0
PRODID:-//wp-events-plugin.com//6.6.4.4//EN
BEGIN:VEVENT
UID:402@splsportugal.com
DTSTART;VALUE=DATE:20240826
DTEND;VALUE=DATE:20240827
DTSTAMP:20240826T072120Z
URL:https://splsportugal.com/events/dia-internacional-da-igualdade-feminin
 a/
SUMMARY:Dia Internacional da Igualdade Feminina
DESCRIPTION:Este é um dia para homenagear as mulheres\, mas sobretudo comb
 ater as desigualdades de género. A escolha do dia celebra também a data 
 da ratificação da Declaração dos Direitos do Homem e do Cidadão que a
 conteceu\, precisamente a 26 de agosto do ano de 1789\, em França.
ATTACH;FMTTYPE=image/jpeg:https://splsportugal.com/wp-content/uploads/2024
 /08/megaphone-woman-s-hand-copy-space-scaled-e1724656860246.jpg
CATEGORIES:Celebrações em saúde
END:VEVENT
END:VCALENDAR