BEGIN:VCALENDAR
VERSION:2.0
PRODID:-//wp-events-plugin.com//6.6.4.4//EN
BEGIN:VEVENT
UID:19@splsportugal.com
DTSTART:20230222T190000Z
DTEND:20230222T203000Z
DTSTAMP:20230808T124320Z
URL:https://splsportugal.com/events/competencias-parentais-digitais/
SUMMARY:Competências parentais digitais
DESCRIPTION:Assista ao webinar "Competências parentais digitais: as pergun
 tas que faço todos os dias sobre o acesso à internet dos meus filhos".
ATTACH;FMTTYPE=image/jpeg:https://splsportugal.com/wp-content/uploads/2023
 /06/webinar-competencias-parentais-digitais-evento.jpg
CATEGORIES:Formações
END:VEVENT
END:VCALENDAR