BEGIN:VCALENDAR
VERSION:2.0
PRODID:-//wp-events-plugin.com//6.6.4.4//EN
BEGIN:VEVENT
UID:12@splsportugal.com
DTSTART:20230508T170000Z
DTEND:20230629T190000Z
DTSTAMP:20230712T214745Z
URL:https://splsportugal.com/events/ciencia-da-saude-2-a-edicao/
SUMMARY:Ciência da Saúde: 2.ª edição
DESCRIPTION:A  2.ª edição do programa de formação "Ciência dá saúd
 e" em parceria com a AICIB decorreu entre maio e junho de 2023.
ATTACH;FMTTYPE=image/jpeg:https://splsportugal.com/wp-content/uploads/2023
 /06/formacao-aicib.png
CATEGORIES:Formações
END:VEVENT
END:VCALENDAR