BEGIN:VCALENDAR
VERSION:2.0
PRODID:-//wp-events-plugin.com//6.6.4.4//EN
BEGIN:VEVENT
UID:38@splsportugal.com
DTSTART;VALUE=DATE:20220905
DTEND;VALUE=DATE:20220906
DTSTAMP:20231211T174853Z
URL:https://splsportugal.com/events/assinatura-de-protocolo-entre-spls-e-a
 ssociacao-portuguesa-de-jovens-farmaceuticos-apjf/
SUMMARY:Assinatura de protocolo entre SPLS e Associação Portuguesa de Jov
 ens Farmacêuticos (APJF)
DESCRIPTION:No dia 5 de setembro de 2022 foi assinado o protocolo de cooper
 ação entre a Sociedade Portuguesa de Literacia em Saúde (SPLS) e a Asso
 ciação Portuguesa de Jovens Farmacêuticos (APJF).
ATTACH;FMTTYPE=image/jpeg:https://splsportugal.com/wp-content/uploads/2023
 /08/protocolo-APJF-e1702316922311.png
CATEGORIES:Parceiros
END:VEVENT
END:VCALENDAR