BEGIN:VCALENDAR
VERSION:2.0
PRODID:-//wp-events-plugin.com//6.6.4.4//EN
BEGIN:VEVENT
UID:129@splsportugal.com
DTSTART;VALUE=DATE:20231124
DTEND;VALUE=DATE:20231125
DTSTAMP:20240329T135716Z
URL:https://splsportugal.com/events/assinatura-de-protocolo-entre-spls-ane
 sc-e-cespu-para-organizacao-do-evento-ritmo-em-gandra/
SUMMARY:Assinatura de protocolo entre SPLS\, ANESC e CESPU para organizaç
 ão do evento RITMO em Gandra
DESCRIPTION:A SPLS\, ANESC e CESPU assinaram\, a 24 de novembro\, um protoc
 olo para a organização do evento RITMO\, em Gandra. A parceria foi firm
 ada também para outras atividades. A Presidente da SPLS\, Cristina Vaz de
  Almeida\, reitera a importância das colaborações entre entidades para 
 a promoção da literacia em saúde.
ATTACH;FMTTYPE=image/jpeg:https://splsportugal.com/wp-content/uploads/2023
 /11/WhatsApp-Image-2023-11-28-at-00.20.37-1-e1701191541834.jpeg
CATEGORIES:Eventos,Parceiros
END:VEVENT
END:VCALENDAR